BEGIN:VCALENDAR
METHOD:PUBLISH
PRODID:-//webcollect/sdcc//NONSGML v1.0//EN
BEGIN:VTIMEZONE
TZID:Europe/London
BEGIN:DAYLIGHT
TZOFFSETFROM:+0000
RRULE:FREQ=YEARLY;BYMONTH=3;BYDAY=-1SU
DTSTART:19810329T010000
TZNAME:BST
TZOFFSETTO:+0100
END:DAYLIGHT
BEGIN:STANDARD
TZOFFSETFROM:+0100
RRULE:FREQ=YEARLY;BYMONTH=10;BYDAY=-1SU
DTSTART:19961027T020000
TZNAME:GMT
TZOFFSETTO:+0000
END:STANDARD
END:VTIMEZONE
BEGIN:VEVENT
UID:event_product_453321@webcollect.org.uk
DTSTAMP:20260421T081539Z
ORGANIZER;CN=Dave Wilkinson:MAILTO:dave.wilkinson.dw@gmail.com
DTSTART;TZID=Europe/London:20260429T180000
DTEND;TZID=Europe/London:20260429T200000
DESCRIPTION:We invite anyone interested in completing a beginners course in paddle sport to attend our Paddle Discover Beginners Course\, which gives you the opportunity to try out paddling with Scarborough Canoe Club at the North Yorkshire Water Park (Wykeham Lakes). You will learn more about the club and have the opportunity to develop paddling skills in a variety of different Kayaks and Canoes. The...
SUMMARY:Paddle Discover Beginners Course 1 (April/May 2026)(6 places avail) - Scarborough & District Canoe Club
LOCATION:NYWP\, Wykeham
END:VEVENT
END:VCALENDAR
