BEGIN:VCALENDAR
METHOD:PUBLISH
PRODID:-//webcollect/sdcc//NONSGML v1.0//EN
BEGIN:VTIMEZONE
TZID:Europe/London
BEGIN:DAYLIGHT
TZOFFSETFROM:+0000
RRULE:FREQ=YEARLY;BYMONTH=3;BYDAY=-1SU
DTSTART:19810329T010000
TZNAME:BST
TZOFFSETTO:+0100
END:DAYLIGHT
BEGIN:STANDARD
TZOFFSETFROM:+0100
RRULE:FREQ=YEARLY;BYMONTH=10;BYDAY=-1SU
DTSTART:19961027T020000
TZNAME:GMT
TZOFFSETTO:+0000
END:STANDARD
END:VTIMEZONE
BEGIN:VEVENT
UID:event_product_452093@webcollect.org.uk
DTSTAMP:20260421T080853Z
ORGANIZER;CN=Dave Wilkinson:MAILTO:dave.wilkinson.dw@gmail.com
DTSTART;VALUE=DATE:20260528
DESCRIPTION:This will be a long weekend sea kayaking on the Isle of Bute from 28th to 31st May 2026 inclusive. There will be 2 nights wild camping and 3 days paddling covering 40 miles. Full accommodation and travel arrangements will be agreed nearer the time.It is a prerequisite that all paddlers must have a Sea Kayak Award or equivalent experience. Booking via Webcollect and please remember to book and...
SUMMARY:Isle of Bute sea kayak long weekend(1 places avail) - Scarborough & District Canoe Club
LOCATION:Isle of Bute
END:VEVENT
END:VCALENDAR
