BEGIN:VCALENDAR
METHOD:PUBLISH
PRODID:-//webcollect/ssc//NONSGML v1.0//EN
BEGIN:VTIMEZONE
TZID:Europe/London
BEGIN:DAYLIGHT
TZOFFSETFROM:+0000
RRULE:FREQ=YEARLY;BYMONTH=3;BYDAY=-1SU
DTSTART:19810329T010000
TZNAME:BST
TZOFFSETTO:+0100
END:DAYLIGHT
BEGIN:STANDARD
TZOFFSETFROM:+0100
RRULE:FREQ=YEARLY;BYMONTH=10;BYDAY=-1SU
DTSTART:19961027T020000
TZNAME:GMT
TZOFFSETTO:+0000
END:STANDARD
END:VTIMEZONE
BEGIN:VEVENT
UID:event_product_453635@webcollect.org.uk
DTSTAMP:20260421T081509Z
ORGANIZER;CN=Training Coordinator:MAILTO:traincoord@seafarers-sailing-club.org.uk
DTSTART;VALUE=DATE:20260616
DESCRIPTION:Although aimed primarily at Cadets and Novices\, these sessions provide an opportunity for anyone that fancies going for a gentle sail with patrol boat and tractor cover plus\, perhaps\, the assistance of an Instructor.Practice Sailing sessions are available from 18:30 every Tuesday evening between 16 June and the end of the school summer holiday.Development Sailing will take place from 11:00 on...
SUMMARY:Practice Sailing Practice and Development Sailing 2026 - Seafarers Sailing Club
LOCATION:Seafarers Sailing Club
END:VEVENT
BEGIN:VEVENT
UID:event_product_453636@webcollect.org.uk
DTSTAMP:20260421T081509Z
ORGANIZER;CN=Training Coordinator:MAILTO:traincoord@seafarers-sailing-club.org.uk
DTSTART;VALUE=DATE:20260620
DESCRIPTION:Although aimed primarily at Cadets and Novices\, these sessions provide an opportunity for anyone that fancies going for a gentle sail with patrol boat and tractor cover plus\, perhaps\, the assistance of an Instructor.Practice Sailing sessions are available from 18:30 every Tuesday evening between 16 June and the end of the school summer holiday.Development Sailing will take place from 11:00 on...
SUMMARY:Development Sailing Practice and Development Sailing 2026 - Seafarers Sailing Club
LOCATION:Seafarers Sailing Club
END:VEVENT
BEGIN:VEVENT
UID:event_product_453637@webcollect.org.uk
DTSTAMP:20260421T081509Z
ORGANIZER;CN=Training Coordinator:MAILTO:traincoord@seafarers-sailing-club.org.uk
DTSTART;VALUE=DATE:20260623
DESCRIPTION:Although aimed primarily at Cadets and Novices\, these sessions provide an opportunity for anyone that fancies going for a gentle sail with patrol boat and tractor cover plus\, perhaps\, the assistance of an Instructor.Practice Sailing sessions are available from 18:30 every Tuesday evening between 16 June and the end of the school summer holiday.Development Sailing will take place from 11:00 on...
SUMMARY:Practice Sailing Practice and Development Sailing 2026 - Seafarers Sailing Club
LOCATION:Seafarers Sailing Club
END:VEVENT
BEGIN:VEVENT
UID:event_product_453638@webcollect.org.uk
DTSTAMP:20260421T081509Z
ORGANIZER;CN=Training Coordinator:MAILTO:traincoord@seafarers-sailing-club.org.uk
DTSTART;VALUE=DATE:20260627
DESCRIPTION:Although aimed primarily at Cadets and Novices\, these sessions provide an opportunity for anyone that fancies going for a gentle sail with patrol boat and tractor cover plus\, perhaps\, the assistance of an Instructor.Practice Sailing sessions are available from 18:30 every Tuesday evening between 16 June and the end of the school summer holiday.Development Sailing will take place from 11:00 on...
SUMMARY:Development Sailing Practice and Development Sailing 2026 - Seafarers Sailing Club
LOCATION:Seafarers Sailing Club
END:VEVENT
BEGIN:VEVENT
UID:event_product_453639@webcollect.org.uk
DTSTAMP:20260421T081509Z
ORGANIZER;CN=Training Coordinator:MAILTO:traincoord@seafarers-sailing-club.org.uk
DTSTART;VALUE=DATE:20260630
DESCRIPTION:Although aimed primarily at Cadets and Novices\, these sessions provide an opportunity for anyone that fancies going for a gentle sail with patrol boat and tractor cover plus\, perhaps\, the assistance of an Instructor.Practice Sailing sessions are available from 18:30 every Tuesday evening between 16 June and the end of the school summer holiday.Development Sailing will take place from 11:00 on...
SUMMARY:Practice Sailing Practice and Development Sailing 2026 - Seafarers Sailing Club
LOCATION:Seafarers Sailing Club
END:VEVENT
BEGIN:VEVENT
UID:event_product_453641@webcollect.org.uk
DTSTAMP:20260421T081509Z
ORGANIZER;CN=Training Coordinator:MAILTO:traincoord@seafarers-sailing-club.org.uk
DTSTART;VALUE=DATE:20260704
DESCRIPTION:Although aimed primarily at Cadets and Novices\, these sessions provide an opportunity for anyone that fancies going for a gentle sail with patrol boat and tractor cover plus\, perhaps\, the assistance of an Instructor.Practice Sailing sessions are available from 18:30 every Tuesday evening between 16 June and the end of the school summer holiday.Development Sailing will take place from 11:00 on...
SUMMARY:Development Sailing Practice and Development Sailing 2026 - Seafarers Sailing Club
LOCATION:Seafarers Sailing Club
END:VEVENT
BEGIN:VEVENT
UID:event_product_453640@webcollect.org.uk
DTSTAMP:20260421T081509Z
ORGANIZER;CN=Training Coordinator:MAILTO:traincoord@seafarers-sailing-club.org.uk
DTSTART;VALUE=DATE:20260707
DESCRIPTION:Although aimed primarily at Cadets and Novices\, these sessions provide an opportunity for anyone that fancies going for a gentle sail with patrol boat and tractor cover plus\, perhaps\, the assistance of an Instructor.Practice Sailing sessions are available from 18:30 every Tuesday evening between 16 June and the end of the school summer holiday.Development Sailing will take place from 11:00 on...
SUMMARY:Practice Sailing Practice and Development Sailing 2026 - Seafarers Sailing Club
LOCATION:Seafarers Sailing Club
END:VEVENT
BEGIN:VEVENT
UID:event_product_455267@webcollect.org.uk
DTSTAMP:20260421T081509Z
ORGANIZER;CN=Training Coordinator:MAILTO:traincoord@seafarers-sailing-club.org.uk
DTSTART;VALUE=DATE:20260711
DESCRIPTION:Although aimed primarily at Cadets and Novices\, these sessions provide an opportunity for anyone that fancies going for a gentle sail with patrol boat and tractor cover plus\, perhaps\, the assistance of an Instructor.Practice Sailing sessions are available from 18:30 every Tuesday evening between 16 June and the end of the school summer holiday.Development Sailing will take place from 11:00 on...
SUMMARY:Development Sailing Practice and Development Sailing 2026 - Seafarers Sailing Club
LOCATION:Seafarers Sailing Club
END:VEVENT
BEGIN:VEVENT
UID:event_product_455268@webcollect.org.uk
DTSTAMP:20260421T081509Z
ORGANIZER;CN=Training Coordinator:MAILTO:traincoord@seafarers-sailing-club.org.uk
DTSTART;VALUE=DATE:20260714
DESCRIPTION:Although aimed primarily at Cadets and Novices\, these sessions provide an opportunity for anyone that fancies going for a gentle sail with patrol boat and tractor cover plus\, perhaps\, the assistance of an Instructor.Practice Sailing sessions are available from 18:30 every Tuesday evening between 16 June and the end of the school summer holiday.Development Sailing will take place from 11:00 on...
SUMMARY:Practice Sailing Practice and Development Sailing 2026 - Seafarers Sailing Club
LOCATION:Seafarers Sailing Club
END:VEVENT
BEGIN:VEVENT
UID:event_product_455269@webcollect.org.uk
DTSTAMP:20260421T081509Z
ORGANIZER;CN=Training Coordinator:MAILTO:traincoord@seafarers-sailing-club.org.uk
DTSTART;VALUE=DATE:20260721
DESCRIPTION:Although aimed primarily at Cadets and Novices\, these sessions provide an opportunity for anyone that fancies going for a gentle sail with patrol boat and tractor cover plus\, perhaps\, the assistance of an Instructor.Practice Sailing sessions are available from 18:30 every Tuesday evening between 16 June and the end of the school summer holiday.Development Sailing will take place from 11:00 on...
SUMMARY:Practice Sailing Practice and Development Sailing 2026 - Seafarers Sailing Club
LOCATION:Seafarers Sailing Club
END:VEVENT
BEGIN:VEVENT
UID:event_product_455270@webcollect.org.uk
DTSTAMP:20260421T081509Z
ORGANIZER;CN=Training Coordinator:MAILTO:traincoord@seafarers-sailing-club.org.uk
DTSTART;VALUE=DATE:20260725
DESCRIPTION:Although aimed primarily at Cadets and Novices\, these sessions provide an opportunity for anyone that fancies going for a gentle sail with patrol boat and tractor cover plus\, perhaps\, the assistance of an Instructor.Practice Sailing sessions are available from 18:30 every Tuesday evening between 16 June and the end of the school summer holiday.Development Sailing will take place from 11:00 on...
SUMMARY:Development Sailing Practice and Development Sailing 2026 - Seafarers Sailing Club
LOCATION:Seafarers Sailing Club
END:VEVENT
BEGIN:VEVENT
UID:event_product_455271@webcollect.org.uk
DTSTAMP:20260421T081509Z
ORGANIZER;CN=Training Coordinator:MAILTO:traincoord@seafarers-sailing-club.org.uk
DTSTART;VALUE=DATE:20260728
DESCRIPTION:Although aimed primarily at Cadets and Novices\, these sessions provide an opportunity for anyone that fancies going for a gentle sail with patrol boat and tractor cover plus\, perhaps\, the assistance of an Instructor.Practice Sailing sessions are available from 18:30 every Tuesday evening between 16 June and the end of the school summer holiday.Development Sailing will take place from 11:00 on...
SUMMARY:Practice Sailing Practice and Development Sailing 2026 - Seafarers Sailing Club
LOCATION:Seafarers Sailing Club
END:VEVENT
BEGIN:VEVENT
UID:event_product_455272@webcollect.org.uk
DTSTAMP:20260421T081509Z
ORGANIZER;CN=Training Coordinator:MAILTO:traincoord@seafarers-sailing-club.org.uk
DTSTART;VALUE=DATE:20260801
DESCRIPTION:Although aimed primarily at Cadets and Novices\, these sessions provide an opportunity for anyone that fancies going for a gentle sail with patrol boat and tractor cover plus\, perhaps\, the assistance of an Instructor.Practice Sailing sessions are available from 18:30 every Tuesday evening between 16 June and the end of the school summer holiday.Development Sailing will take place from 11:00 on...
SUMMARY:Development Sailing Practice and Development Sailing 2026 - Seafarers Sailing Club
LOCATION:Seafarers Sailing Club
END:VEVENT
BEGIN:VEVENT
UID:event_product_455273@webcollect.org.uk
DTSTAMP:20260421T081509Z
ORGANIZER;CN=Training Coordinator:MAILTO:traincoord@seafarers-sailing-club.org.uk
DTSTART;VALUE=DATE:20260804
DESCRIPTION:Although aimed primarily at Cadets and Novices\, these sessions provide an opportunity for anyone that fancies going for a gentle sail with patrol boat and tractor cover plus\, perhaps\, the assistance of an Instructor.Practice Sailing sessions are available from 18:30 every Tuesday evening between 16 June and the end of the school summer holiday.Development Sailing will take place from 11:00 on...
SUMMARY:Practice Sailing Practice and Development Sailing 2026 - Seafarers Sailing Club
LOCATION:Seafarers Sailing Club
END:VEVENT
BEGIN:VEVENT
UID:event_product_455274@webcollect.org.uk
DTSTAMP:20260421T081509Z
ORGANIZER;CN=Training Coordinator:MAILTO:traincoord@seafarers-sailing-club.org.uk
DTSTART;VALUE=DATE:20260808
DESCRIPTION:Although aimed primarily at Cadets and Novices\, these sessions provide an opportunity for anyone that fancies going for a gentle sail with patrol boat and tractor cover plus\, perhaps\, the assistance of an Instructor.Practice Sailing sessions are available from 18:30 every Tuesday evening between 16 June and the end of the school summer holiday.Development Sailing will take place from 11:00 on...
SUMMARY:Development Sailing Practice and Development Sailing 2026 - Seafarers Sailing Club
LOCATION:Seafarers Sailing Club
END:VEVENT
BEGIN:VEVENT
UID:event_product_455275@webcollect.org.uk
DTSTAMP:20260421T081509Z
ORGANIZER;CN=Training Coordinator:MAILTO:traincoord@seafarers-sailing-club.org.uk
DTSTART;VALUE=DATE:20260811
DESCRIPTION:Although aimed primarily at Cadets and Novices\, these sessions provide an opportunity for anyone that fancies going for a gentle sail with patrol boat and tractor cover plus\, perhaps\, the assistance of an Instructor.Practice Sailing sessions are available from 18:30 every Tuesday evening between 16 June and the end of the school summer holiday.Development Sailing will take place from 11:00 on...
SUMMARY:Practice Sailing Practice and Development Sailing 2026 - Seafarers Sailing Club
LOCATION:Seafarers Sailing Club
END:VEVENT
BEGIN:VEVENT
UID:event_product_455277@webcollect.org.uk
DTSTAMP:20260421T081509Z
ORGANIZER;CN=Training Coordinator:MAILTO:traincoord@seafarers-sailing-club.org.uk
DTSTART;VALUE=DATE:20260822
DESCRIPTION:Although aimed primarily at Cadets and Novices\, these sessions provide an opportunity for anyone that fancies going for a gentle sail with patrol boat and tractor cover plus\, perhaps\, the assistance of an Instructor.Practice Sailing sessions are available from 18:30 every Tuesday evening between 16 June and the end of the school summer holiday.Development Sailing will take place from 11:00 on...
SUMMARY:Development Sailing Practice and Development Sailing 2026 - Seafarers Sailing Club
LOCATION:Seafarers Sailing Club
END:VEVENT
BEGIN:VEVENT
UID:event_product_455278@webcollect.org.uk
DTSTAMP:20260421T081509Z
ORGANIZER;CN=Training Coordinator:MAILTO:traincoord@seafarers-sailing-club.org.uk
DTSTART;VALUE=DATE:20260825
DESCRIPTION:Although aimed primarily at Cadets and Novices\, these sessions provide an opportunity for anyone that fancies going for a gentle sail with patrol boat and tractor cover plus\, perhaps\, the assistance of an Instructor.Practice Sailing sessions are available from 18:30 every Tuesday evening between 16 June and the end of the school summer holiday.Development Sailing will take place from 11:00 on...
SUMMARY:Practice Sailing Practice and Development Sailing 2026 - Seafarers Sailing Club
LOCATION:Seafarers Sailing Club
END:VEVENT
BEGIN:VEVENT
UID:event_product_455279@webcollect.org.uk
DTSTAMP:20260421T081509Z
ORGANIZER;CN=Training Coordinator:MAILTO:traincoord@seafarers-sailing-club.org.uk
DTSTART;VALUE=DATE:20260829
DESCRIPTION:Although aimed primarily at Cadets and Novices\, these sessions provide an opportunity for anyone that fancies going for a gentle sail with patrol boat and tractor cover plus\, perhaps\, the assistance of an Instructor.Practice Sailing sessions are available from 18:30 every Tuesday evening between 16 June and the end of the school summer holiday.Development Sailing will take place from 11:00 on...
SUMMARY:Development Sailing Practice and Development Sailing 2026 - Seafarers Sailing Club
LOCATION:Seafarers Sailing Club
END:VEVENT
BEGIN:VEVENT
UID:event_product_455280@webcollect.org.uk
DTSTAMP:20260421T081509Z
ORGANIZER;CN=Training Coordinator:MAILTO:traincoord@seafarers-sailing-club.org.uk
DTSTART;VALUE=DATE:20260901
DESCRIPTION:Although aimed primarily at Cadets and Novices\, these sessions provide an opportunity for anyone that fancies going for a gentle sail with patrol boat and tractor cover plus\, perhaps\, the assistance of an Instructor.Practice Sailing sessions are available from 18:30 every Tuesday evening between 16 June and the end of the school summer holiday.Development Sailing will take place from 11:00 on...
SUMMARY:Practice Sailing Practice and Development Sailing 2026 - Seafarers Sailing Club
LOCATION:Seafarers Sailing Club
END:VEVENT
BEGIN:VEVENT
UID:event_product_455281@webcollect.org.uk
DTSTAMP:20260421T081509Z
ORGANIZER;CN=Training Coordinator:MAILTO:traincoord@seafarers-sailing-club.org.uk
DTSTART;VALUE=DATE:20260905
DESCRIPTION:Although aimed primarily at Cadets and Novices\, these sessions provide an opportunity for anyone that fancies going for a gentle sail with patrol boat and tractor cover plus\, perhaps\, the assistance of an Instructor.Practice Sailing sessions are available from 18:30 every Tuesday evening between 16 June and the end of the school summer holiday.Development Sailing will take place from 11:00 on...
SUMMARY:Development Sailing Practice and Development Sailing 2026 - Seafarers Sailing Club
LOCATION:Seafarers Sailing Club
END:VEVENT
END:VCALENDAR
