BEGIN:VCALENDAR
METHOD:PUBLISH
PRODID:-//webcollect/ssc//NONSGML v1.0//EN
BEGIN:VTIMEZONE
TZID:Europe/London
BEGIN:DAYLIGHT
TZOFFSETFROM:+0000
RRULE:FREQ=YEARLY;BYMONTH=3;BYDAY=-1SU
DTSTART:19810329T010000
TZNAME:BST
TZOFFSETTO:+0100
END:DAYLIGHT
BEGIN:STANDARD
TZOFFSETFROM:+0100
RRULE:FREQ=YEARLY;BYMONTH=10;BYDAY=-1SU
DTSTART:19961027T020000
TZNAME:GMT
TZOFFSETTO:+0000
END:STANDARD
END:VTIMEZONE
BEGIN:VEVENT
UID:event_product_448491@webcollect.org.uk
DTSTAMP:20260423T082630Z
ORGANIZER;CN=RYA Admin:MAILTO:ryaadmin@seafarers-sailing-club.org.uk
DTSTART;VALUE=DATE:20260501
DESCRIPTION:Royal Yachting Association National Sailing Scheme Start Sailing & Basic Skills (Level 1 - 2) This training course is aimed at complete beginners aged 18 to 68\, but if you have not sailed for many years or just want a refresher\, you are also welcome.The introduction is on a Thursday evening in the lounge bar. The practice and theory session are all on weekends\, dates and times as shown below....
SUMMARY:RYA Level 1 & 2 RYA Level 1 & 2 Start Sailing & Basic Skills - 2026(full) - Seafarers Sailing Club
LOCATION:Seafarers Sailing Club
END:VEVENT
END:VCALENDAR
