BEGIN:VCALENDAR
METHOD:PUBLISH
PRODID:-//webcollect/ssc//NONSGML v1.0//EN
BEGIN:VTIMEZONE
TZID:Europe/London
BEGIN:DAYLIGHT
TZOFFSETFROM:+0000
RRULE:FREQ=YEARLY;BYMONTH=3;BYDAY=-1SU
DTSTART:19810329T010000
TZNAME:BST
TZOFFSETTO:+0100
END:DAYLIGHT
BEGIN:STANDARD
TZOFFSETFROM:+0100
RRULE:FREQ=YEARLY;BYMONTH=10;BYDAY=-1SU
DTSTART:19961027T020000
TZNAME:GMT
TZOFFSETTO:+0000
END:STANDARD
END:VTIMEZONE
BEGIN:VEVENT
UID:event_product_448493@webcollect.org.uk
DTSTAMP:20260421T081616Z
ORGANIZER;CN=RYA Admin:MAILTO:ryaadmin@seafarers-sailing-club.org.uk
DTSTART;VALUE=DATE:20260501
DESCRIPTION:Royal Yachting Association Youth Sailing Scheme Stage 1 & 2 This training course is for our cadets from 8 years of age. The adult Level 1 & 2 course might be more appropriate for cadets aged 16 or older.For cadets of 11 years of age or under\, a responsible adult or guardian is to be on the premises at all times.Stage 1 is an introduction to the parts of the boat\, how to get the boat sailing\,...
SUMMARY:RYA YSS Stage 1 & 2 RYA Youth Sailing Scheme Stage 1 & 2 - 2026(full) - Seafarers Sailing Club
LOCATION:Seafarers Sailing Club
END:VEVENT
END:VCALENDAR
