BEGIN:VCALENDAR
METHOD:PUBLISH
PRODID:-//webcollect/ssc//NONSGML v1.0//EN
BEGIN:VTIMEZONE
TZID:Europe/London
BEGIN:DAYLIGHT
TZOFFSETFROM:+0000
RRULE:FREQ=YEARLY;BYMONTH=3;BYDAY=-1SU
DTSTART:19810329T010000
TZNAME:BST
TZOFFSETTO:+0100
END:DAYLIGHT
BEGIN:STANDARD
TZOFFSETFROM:+0100
RRULE:FREQ=YEARLY;BYMONTH=10;BYDAY=-1SU
DTSTART:19961027T020000
TZNAME:GMT
TZOFFSETTO:+0000
END:STANDARD
END:VTIMEZONE
BEGIN:VEVENT
UID:event_product_450652@webcollect.org.uk
DTSTAMP:20260419T132757Z
ORGANIZER;CN=Social Secretary:MAILTO:socialsecretary@seafarers-sailing-club.org.uk
DTSTART;TZID=Europe/London:20260425T183000
DTEND;TZID=Europe/London:20260425T230000
DESCRIPTION:Enjoy a really fun and relaxing time. Tony Nicholls will be guiding us through the games. Arrival time is 18.30 for a prompt 19.00 start. A tasty supper will be provided - There will be nibbles on the table when we arrive. Then at about 20.00 we'll have a choice of pizzas -mushroom & bell peppers (vegetarian) - or spicy meat with hot honey - or ham & mushroom. These will be freshly made pizzas...
SUMMARY:Bingo & Quiz Evening Bingo & Quiz Evening - 25 April 26(15 places avail) - Seafarers Sailing Club
LOCATION:Seafarers Sailing Club
END:VEVENT
BEGIN:VEVENT
UID:event_product_458381@webcollect.org.uk
DTSTAMP:20260419T132757Z
ORGANIZER;CN=Social Secretary:MAILTO:socialsecretary@seafarers-sailing-club.org.uk
DTSTART;TZID=Europe/London:20260505T190000
DTEND;TZID=Europe/London:20260505T223000
DESCRIPTION:A NEW DATE of Tuesday 5 May has now been agreed with our speaker - so we look forward to seeing lots of you - club opens at 19.00.Andrew Major - the Atlantic Rocketman - will talk about his solo rowing adventure crossing the AtlanticIn February 2025 Atlantic Rocketman arrived in Antigua having successfully rowed solo 3000 nautical miles across the Atlantic Ocean in a race called 'The World's...
SUMMARY:Talk - Rowing the Atlantic Tuesday Talk - Rowing the Atlantic - 5 May 26(45 places avail) - Seafarers Sailing Club
LOCATION:Seafarers Sailing Club
END:VEVENT
BEGIN:VEVENT
UID:event_product_452571@webcollect.org.uk
DTSTAMP:20260419T132757Z
ORGANIZER;CN=Social Secretary:MAILTO:socialsecretary@seafarers-sailing-club.org.uk
DTSTART;TZID=Europe/London:20260516T193000
DTEND;TZID=Europe/London:20260516T233000
DESCRIPTION:Another fun evening !! ---- provided by KayA fun and light-hearted evening with Karaoke and a Disco. !!!!Nibbles will be on the tables.Relax and enjoy this event. Friends and family welcome.Starts at 19.30. Closing date - midnight on Friday 15 May
SUMMARY:Karaoke & Disco Seafarers Karaoke - 16 May 2026(40 places avail) - Seafarers Sailing Club
LOCATION:Seafarers Sailing Club
END:VEVENT
END:VCALENDAR
