BEGIN:VCALENDAR
METHOD:PUBLISH
PRODID:-//webcollect/stmlsc//NONSGML v1.0//EN
BEGIN:VTIMEZONE
TZID:Europe/London
BEGIN:DAYLIGHT
TZOFFSETFROM:+0000
RRULE:FREQ=YEARLY;BYMONTH=3;BYDAY=-1SU
DTSTART:19810329T010000
TZNAME:BST
TZOFFSETTO:+0100
END:DAYLIGHT
BEGIN:STANDARD
TZOFFSETFROM:+0100
RRULE:FREQ=YEARLY;BYMONTH=10;BYDAY=-1SU
DTSTART:19961027T020000
TZNAME:GMT
TZOFFSETTO:+0000
END:STANDARD
END:VTIMEZONE
BEGIN:VEVENT
UID:event_product_458595@webcollect.org.uk
DTSTAMP:20260422T144052Z
ORGANIZER;CN=Gerry Goodfellow:MAILTO:geraintgoodfellow@gmail.com
DTSTART;VALUE=DATE:20260516
DESCRIPTION:Dinner Tickets - Saturday 16th May 2026Dinner ticket. For participants and supporters of the Singlehanded and Junior Regatta.Hog Roast supplied by "Oink" at St Mary's Loch SC clubhouse.Price includes a Hog Roast and a choice of Desert (e.g. Cake / Ice Cream / etc.)Vegetarian Option Available (Macaroni Cheese / Vegetarian Chilli).Should you have dietary requirements please get in touch.There...
SUMMARY:Dinner Only (May Regatta) Dinner Ticket - Singlehanded and Junior Regatta 2026(7 places avail) - St Mary’s Loch Sailing Club
LOCATION:St Mary's Loch Sailing Club 
END:VEVENT
END:VCALENDAR
