BEGIN:VCALENDAR
METHOD:PUBLISH
PRODID:-//webcollect/stmlsc//NONSGML v1.0//EN
BEGIN:VTIMEZONE
TZID:Europe/London
BEGIN:DAYLIGHT
TZOFFSETFROM:+0000
RRULE:FREQ=YEARLY;BYMONTH=3;BYDAY=-1SU
DTSTART:19810329T010000
TZNAME:BST
TZOFFSETTO:+0100
END:DAYLIGHT
BEGIN:STANDARD
TZOFFSETFROM:+0100
RRULE:FREQ=YEARLY;BYMONTH=10;BYDAY=-1SU
DTSTART:19961027T020000
TZNAME:GMT
TZOFFSETTO:+0000
END:STANDARD
END:VTIMEZONE
BEGIN:VEVENT
UID:event_product_458598@webcollect.org.uk
DTSTAMP:20260422T130641Z
ORGANIZER;CN=Gerry Goodfellow:MAILTO:geraintgoodfellow@gmail.com
DTSTART;VALUE=DATE:20260516
DESCRIPTION:St Mary's Loch SC Welcomes all Sailors to their Junior and Singlehanded Regatta 2026Including: RS Feva Scottish Championship and Supernova Scottish ChampionshipOpen to the Following Classes:Saturday Only:ILCA / Laser (All Rigs) - Part of the Lakeland and Border Grand Prix Traveller SeriesStreaker - Part of the Streaker Scottish CircuitSaturday and Sunday:Supernova - Scottish...
SUMMARY:Junior Regatta (Late Entry) St Mary's Loch SC - Singlehanded and Junior Regatta 2026 (full) - St Mary’s Loch Sailing Club
LOCATION:St Mary's Loch SC
END:VEVENT
BEGIN:VEVENT
UID:event_product_458593@webcollect.org.uk
DTSTAMP:20260422T130641Z
ORGANIZER;CN=Gerry Goodfellow:MAILTO:geraintgoodfellow@gmail.com
DTSTART;VALUE=DATE:20260516
DESCRIPTION:St Mary's Loch SC Welcomes all Sailors to their Junior and Singlehanded Regatta 2026Including: RS Feva Scottish Championship and Supernova Scottish ChampionshipOpen to the Following Classes:Saturday Only:ILCA / Laser (All Rigs) - Part of the Lakeland and Border Grand Prix Traveller SeriesStreaker - Part of the Streaker Scottish CircuitSaturday and Sunday:Supernova - Scottish...
SUMMARY:Junior Regatta (Standard Entry) St Mary's Loch SC - Singlehanded and Junior Regatta 2026 (19 places avail) - St Mary’s Loch Sailing Club
LOCATION:St Mary's Loch SC
END:VEVENT
BEGIN:VEVENT
UID:event_product_458599@webcollect.org.uk
DTSTAMP:20260422T130641Z
ORGANIZER;CN=Gerry Goodfellow:MAILTO:geraintgoodfellow@gmail.com
DTSTART;VALUE=DATE:20260516
DESCRIPTION:St Mary's Loch SC Welcomes all Sailors to their Junior and Singlehanded Regatta 2026Including: RS Feva Scottish Championship and Supernova Scottish ChampionshipOpen to the Following Classes:Saturday Only:ILCA / Laser (All Rigs) - Part of the Lakeland and Border Grand Prix Traveller SeriesStreaker - Part of the Streaker Scottish CircuitSaturday and Sunday:Supernova - Scottish...
SUMMARY:Singlehanded Regatta (Late Entry) St Mary's Loch SC - Singlehanded and Junior Regatta 2026 (full) - St Mary’s Loch Sailing Club
LOCATION:St Mary's Loch SC
END:VEVENT
BEGIN:VEVENT
UID:event_product_458600@webcollect.org.uk
DTSTAMP:20260422T130641Z
ORGANIZER;CN=Gerry Goodfellow:MAILTO:geraintgoodfellow@gmail.com
DTSTART;VALUE=DATE:20260516
DESCRIPTION:St Mary's Loch SC Welcomes all Sailors to their Junior and Singlehanded Regatta 2026Including: RS Feva Scottish Championship and Supernova Scottish ChampionshipOpen to the Following Classes:Saturday Only:ILCA / Laser (All Rigs) - Part of the Lakeland and Border Grand Prix Traveller SeriesStreaker - Part of the Streaker Scottish CircuitSaturday and Sunday:Supernova - Scottish...
SUMMARY:Singlehanded Regatta (Standard Entry) St Mary's Loch SC - Singlehanded and Junior Regatta 2026 (19 places avail) - St Mary’s Loch Sailing Club
LOCATION:St Mary's Loch SC
END:VEVENT
BEGIN:VEVENT
UID:event_product_458724@webcollect.org.uk
DTSTAMP:20260422T130641Z
ORGANIZER;CN=Gerry Goodfellow:MAILTO:geraintgoodfellow@gmail.com
DTSTART;VALUE=DATE:20260516
DESCRIPTION:St Mary's Loch SC Welcomes all Sailors to their Junior and Singlehanded Regatta 2026Including: RS Feva Scottish Championship and Supernova Scottish ChampionshipOpen to the Following Classes:Saturday Only:ILCA / Laser (All Rigs) - Part of the Lakeland and Border Grand Prix Traveller SeriesStreaker - Part of the Streaker Scottish CircuitSaturday and Sunday:Supernova - Scottish...
SUMMARY:Supernova Scottish Nationals (Late Entry) St Mary's Loch SC - Singlehanded and Junior Regatta 2026 (full) - St Mary’s Loch Sailing Club
LOCATION:St Mary's Loch SC
END:VEVENT
BEGIN:VEVENT
UID:event_product_458723@webcollect.org.uk
DTSTAMP:20260422T130641Z
ORGANIZER;CN=Gerry Goodfellow:MAILTO:geraintgoodfellow@gmail.com
DTSTART;VALUE=DATE:20260516
DESCRIPTION:St Mary's Loch SC Welcomes all Sailors to their Junior and Singlehanded Regatta 2026Including: RS Feva Scottish Championship and Supernova Scottish ChampionshipOpen to the Following Classes:Saturday Only:ILCA / Laser (All Rigs) - Part of the Lakeland and Border Grand Prix Traveller SeriesStreaker - Part of the Streaker Scottish CircuitSaturday and Sunday:Supernova - Scottish...
SUMMARY:Supernova Scottish Nationals (Standard Entry) St Mary's Loch SC - Singlehanded and Junior Regatta 2026 (5 places avail) - St Mary’s Loch Sailing Club
LOCATION:St Mary's Loch SC
END:VEVENT
END:VCALENDAR
