BEGIN:VCALENDAR
METHOD:PUBLISH
PRODID:-//webcollect/tbsc//NONSGML v1.0//EN
BEGIN:VTIMEZONE
TZID:Europe/London
BEGIN:DAYLIGHT
TZOFFSETFROM:+0000
RRULE:FREQ=YEARLY;BYMONTH=3;BYDAY=-1SU
DTSTART:19810329T010000
TZNAME:BST
TZOFFSETTO:+0100
END:DAYLIGHT
BEGIN:STANDARD
TZOFFSETFROM:+0100
RRULE:FREQ=YEARLY;BYMONTH=10;BYDAY=-1SU
DTSTART:19961027T020000
TZNAME:GMT
TZOFFSETTO:+0000
END:STANDARD
END:VTIMEZONE
BEGIN:VEVENT
UID:event_product_431585@webcollect.org.uk
DTSTAMP:20260422T095009Z
ORGANIZER;CN=Rebecca Parks:MAILTO:rebecca.parks@salfordcc.ac.uk
DTSTART;VALUE=DATE:20260808
DESCRIPTION:Optimist dinghies are available to hire for three weeks of the season. To hire an optimist\, please apply below. Please make arrangements with the Optimist class secretary\, Rebecca Parks to pick the boat up. Members hiring boats must make sure they are looked after during the hire period and that all the parts are returned to the Boatyard in usable condition. Any cost for loss or damage to the...
SUMMARY:Boat Hire (Weekly) Club Optimist Dinghy Hire 2026 - Trearddur Bay Sailing Club
LOCATION:Trearddur Bay
END:VEVENT
BEGIN:VEVENT
UID:event_product_457262@webcollect.org.uk
DTSTAMP:20260422T095009Z
ORGANIZER;CN=Rebecca Parks:MAILTO:rebecca.parks@salfordcc.ac.uk
DTSTART;VALUE=DATE:20260815
DESCRIPTION:Optimist dinghies are available to hire for three weeks of the season. To hire an optimist\, please apply below. Please make arrangements with the Optimist class secretary\, Rebecca Parks to pick the boat up. Members hiring boats must make sure they are looked after during the hire period and that all the parts are returned to the Boatyard in usable condition. Any cost for loss or damage to the...
SUMMARY:Boat Hire (Weekly) Club Optimist Dinghy Hire 2026 - Trearddur Bay Sailing Club
LOCATION:Trearddur Bay
END:VEVENT
BEGIN:VEVENT
UID:event_product_457263@webcollect.org.uk
DTSTAMP:20260422T095009Z
ORGANIZER;CN=Rebecca Parks:MAILTO:rebecca.parks@salfordcc.ac.uk
DTSTART;VALUE=DATE:20260822
DESCRIPTION:Optimist dinghies are available to hire for three weeks of the season. To hire an optimist\, please apply below. Please make arrangements with the Optimist class secretary\, Rebecca Parks to pick the boat up. Members hiring boats must make sure they are looked after during the hire period and that all the parts are returned to the Boatyard in usable condition. Any cost for loss or damage to the...
SUMMARY:Boat Hire (Weekly) Club Optimist Dinghy Hire 2026 - Trearddur Bay Sailing Club
LOCATION:Trearddur Bay
END:VEVENT
END:VCALENDAR
