BEGIN:VCALENDAR
METHOD:PUBLISH
PRODID:-//webcollect/tvrc//NONSGML v1.0//EN
BEGIN:VTIMEZONE
TZID:Europe/London
BEGIN:DAYLIGHT
TZOFFSETFROM:+0000
RRULE:FREQ=YEARLY;BYMONTH=3;BYDAY=-1SU
DTSTART:19810329T010000
TZNAME:BST
TZOFFSETTO:+0100
END:DAYLIGHT
BEGIN:STANDARD
TZOFFSETFROM:+0100
RRULE:FREQ=YEARLY;BYMONTH=10;BYDAY=-1SU
DTSTART:19961027T020000
TZNAME:GMT
TZOFFSETTO:+0000
END:STANDARD
END:VTIMEZONE
BEGIN:VEVENT
UID:event_product_462657@webcollect.org.uk
DTSTAMP:20260425T174854Z
ORGANIZER;CN=CLAIRE PARSONS:MAILTO:chocolat_eclair@yahoo.co.uk
DTSTART;VALUE=DATE:20260414
DESCRIPTION:Dear Members\,The Area 6 combined training is on Sunday 17th May at Snowball. Dressage on grass\, SJ on a surface. (Please note both disciplines take place on grass at the championships)Entries to the Combined Training should be made and paid directly via Snowball -Snowball Farm Unaffiliated Combined Training BRC Area 6 QualifierHowever\, please also do register your entry here to accept the terms...
SUMMARY:Combined Training Area 6 Qualifier NOTIFICATION - Thames Valley Riding Club
LOCATION:Snowball Farm 
END:VEVENT
END:VCALENDAR
