BEGIN:VCALENDAR
METHOD:PUBLISH
PRODID:-//webcollect/wkc//NONSGML v1.0//EN
BEGIN:VTIMEZONE
TZID:Europe/London
BEGIN:DAYLIGHT
TZOFFSETFROM:+0000
RRULE:FREQ=YEARLY;BYMONTH=3;BYDAY=-1SU
DTSTART:19810329T010000
TZNAME:BST
TZOFFSETTO:+0100
END:DAYLIGHT
BEGIN:STANDARD
TZOFFSETFROM:+0100
RRULE:FREQ=YEARLY;BYMONTH=10;BYDAY=-1SU
DTSTART:19961027T020000
TZNAME:GMT
TZOFFSETTO:+0000
END:STANDARD
END:VTIMEZONE
BEGIN:VEVENT
UID:event_product_458372@webcollect.org.uk
DTSTAMP:20260421T080957Z
ORGANIZER;CN=Amanda Childerstone:MAILTO:schools@weykayak.co.uk
DTSTART;TZID=Europe/London:20260421T161500
DTEND;TZID=Europe/London:20260421T174500
DESCRIPTION:After school courses for Holy Trinity School that run on 5 consecutive weeks from the date shown below.
SUMMARY:Course for children in year 5 or year 6 at Holy Trinity school only After School Course over 5 weeks HOLY TRINITY SCHOOL ONLY(15 places avail) - Wey Kayak Club
LOCATION:Wey Kayak Club\, Guildford
END:VEVENT
BEGIN:VEVENT
UID:event_product_458373@webcollect.org.uk
DTSTAMP:20260421T080957Z
ORGANIZER;CN=Amanda Childerstone:MAILTO:schools@weykayak.co.uk
DTSTART;TZID=Europe/London:20260602T161500
DTEND;TZID=Europe/London:20260602T174500
DESCRIPTION:After school courses for Holy Trinity School that run on 5 consecutive weeks from the date shown below.
SUMMARY:Course for children in year 5 or year 6 at Holy Trinity school only After School Course over 5 weeks HOLY TRINITY SCHOOL ONLY(13 places avail) - Wey Kayak Club
LOCATION:Wey Kayak Club\, Guildford
END:VEVENT
END:VCALENDAR
